BEGIN:VCALENDAR
VERSION:2.0
PRODID:-//wp-events-plugin.com//7.2.3.1//EN
TZID:Europe/Berlin
X-WR-TIMEZONE:Europe/Berlin
BEGIN:VEVENT
UID:34@heimatmuseum-schoeningen.de
DTSTART;TZID=Europe/Berlin:20270209T180000
DTEND;TZID=Europe/Berlin:20270209T220000
DTSTAMP:20260414T201512Z
URL:https://heimatmuseum-schoeningen.de/termine/hallerkuchenessen-im-herzo
 ginnensaal/
SUMMARY:Hallerkuchenessen im Herzoginnensaal
DESCRIPTION:Informationen folgen
CATEGORIES:Veranstaltungen
END:VEVENT
BEGIN:VTIMEZONE
TZID:Europe/Berlin
X-LIC-LOCATION:Europe/Berlin
BEGIN:STANDARD
DTSTART:20261025T020000
TZOFFSETFROM:+0200
TZOFFSETTO:+0100
TZNAME:CET
END:STANDARD
END:VTIMEZONE
END:VCALENDAR