BEGIN:VCALENDAR
VERSION:2.0
PRODID:-//wp-events-plugin.com//7.2.3.1//EN
TZID:Europe/Berlin
X-WR-TIMEZONE:Europe/Berlin
BEGIN:VEVENT
UID:32@heimatmuseum-schoeningen.de
DTSTART;TZID=Europe/Berlin:20261106T180000
DTEND;TZID=Europe/Berlin:20261106T220000
DTSTAMP:20260414T201351Z
URL:https://heimatmuseum-schoeningen.de/termine/braunkohlessen-im-ratskell
 er-2/
SUMMARY:Braunkohlessen im Ratskeller
DESCRIPTION:Informationen folgen
CATEGORIES:Veranstaltungen
LOCATION:Ratskeller Schöningen\, Markt 1\, Schöningen\, Niedersachsen\, 3
 8364\, Mitteldeutschland
GEO:52.12885;10.9359
X-APPLE-STRUCTURED-LOCATION;VALUE=URI;X-ADDRESS=Markt 1\, Schöningen\, Nie
 dersachsen\, 38364\, Mitteldeutschland\, Deutschland;X-APPLE-RADIUS=100;X-
 TITLE=Ratskeller Schöningen:geo:52.12885,10.9359
END:VEVENT
BEGIN:VTIMEZONE
TZID:Europe/Berlin
X-LIC-LOCATION:Europe/Berlin
BEGIN:STANDARD
DTSTART:20261025T020000
TZOFFSETFROM:+0200
TZOFFSETTO:+0100
TZNAME:CET
END:STANDARD
END:VTIMEZONE
END:VCALENDAR