BEGIN:VCALENDAR
VERSION:2.0
PRODID:-//wp-events-plugin.com//7.2.3.1//EN
TZID:Europe/Berlin
X-WR-TIMEZONE:Europe/Berlin
BEGIN:VEVENT
UID:33@heimatmuseum-schoeningen.de
DTSTART;TZID=Europe/Berlin:20261129T150000
DTEND;TZID=Europe/Berlin:20261129T180000
DTSTAMP:20260414T201437Z
URL:https://heimatmuseum-schoeningen.de/termine/adventsfeier-im-museum-adv
 ent-im-museumshof/
SUMMARY:Adventsfeier im Museum/ Advent im Museumshof
DESCRIPTION:Informationen folgen
CATEGORIES:Veranstaltungen
LOCATION:Heimatmuseum Schöningen\, Markt 33\, Schöningen\, Niedersachsen\
 , 38364\, Mitteldeutschland
GEO:52.13903;10.968116
X-APPLE-STRUCTURED-LOCATION;VALUE=URI;X-ADDRESS=Markt 33\, Schöningen\, Ni
 edersachsen\, 38364\, Mitteldeutschland\, Deutschland;X-APPLE-RADIUS=100;X
 -TITLE=Heimatmuseum Schöningen:geo:52.13903,10.968116
END:VEVENT
BEGIN:VTIMEZONE
TZID:Europe/Berlin
X-LIC-LOCATION:Europe/Berlin
BEGIN:STANDARD
DTSTART:20261025T020000
TZOFFSETFROM:+0200
TZOFFSETTO:+0100
TZNAME:CET
END:STANDARD
END:VTIMEZONE
END:VCALENDAR